BEGIN:VCALENDAR
METHOD:PUBLISH
VERSION:2.0
PRODID:-//Eventilla iCal Syndication//NONSGML Liana//EN
BEGIN:VEVENT
UID:nVL8r@eventilla.com
DTSTAMP:20211205T220100Z
DTSTART:20211205T220100Z
DTEND:20221112T215900Z
SUMMARY:Pelioikeudet 2022
DESCRIPTION:Pelioikeudet 2022\nKultaranta Resortin pelioikeudet tulevalle golfkaudelle ovat nyt myynnissä. Olemme laajentaneet pelioikeusvalikoimaamme entisestään\, jotta pystyisimme vastaamaan juuri Sinun golftarpeisiisi. Tutustu pelioikeusvaihtoehtoihin tästä.\nKaikkiin pelioikeuksiin kuuluu omat NexGolf-tunnukset\, joilla voi itse ylläpitää jäsen- ja tasoitustietoja sekä tehdä kierrosvarauksia sähköisesti (kgcn.nexgolf.fi). Lisäksi KGCN-jäsenien lunastamiin pelioikeuksiin kuuluuvat kauden 2022 jäsenedut\, jotka julkaistaan viimeistään ennen golfkauden 2022 alkamista.\nTarvittaessa saat lisätietoja yrityspelioikeuksista sekä erilaisista yritysyhteistyö- ja pelilippupakettivaihtoehdoista ottamalla yhteyttä Timo Saloon puhelimitse 044 750 3888 tai sähköpostilla timo.salo@kultarantaresort.fi.
LOCATION:Kultaranta Resort\, Särkänsalmentie 178\, 21100\, Naantali\,
 Suomi
URL:http://ilmoittaudu.kultarantaresort.fi/event/nVL8r
END:VEVENT
END:VCALENDAR
