BEGIN:VCALENDAR
METHOD:PUBLISH
VERSION:2.0
PRODID:-//Eventilla iCal Syndication//NONSGML Liana//EN
BEGIN:VEVENT
UID:nXpKW@eventilla.com
DTSTAMP:20200516T090000Z
DTSTART:20200516T090000Z
DTEND:20200517T120000Z
SUMMARY:Green Card -kurssi Viikonloppu
DESCRIPTION:Kurssilla opetetaan golfin perusteet niin käytännön kuin teorian tasolla eikä aikaisempaa kokemusta lajista tarvita. Kurssille mukaan tarvitset vain sään mukaisen varustuksen sekä iloista ja oppivaista mieltä. Jos sinulla on jo omat välineet ota ne mukaan.\nHinta sisältää opetuksen\, välineet\, pallot\, kurssimateriaalin sekä itse green card –kortin. Jokaiselle kurssin suorittaneelle on tarjolla edullisia pelioikeuspaketteja sekä liittyminen Kultaranta Golf Club Naantaliin ilman liittymismaksua.\nOpetus lauantaina kello 12-16 ja sunnuntaina kello 10-15.Hinta on aikuiselle 139 euroa ja juniorille (alle 18 v.) 99 euroa.
LOCATION:Kultaranta Resort\, Särkänsalmentie 178\, 21100\, Naantali\,
 Suomi
URL:http://ilmoittaudu.kultarantaresort.fi/event/nXpKW
END:VEVENT
END:VCALENDAR
